BEGIN:VCALENDAR
VERSION:2.0
PRODID:icalendar-ruby
CALSCALE:GREGORIAN
METHOD:PUBLISH
BEGIN:VEVENT
DTSTAMP:20260422T033343Z
UID:5-1477238@northsidehighlands.com
DTSTART:20261101T170000Z
DTEND:20261101T180000Z
CLASS:PUBLIC
CREATED:20260421T202825
DESCRIPTION:Sunday Worship
LAST-MODIFIED:20260421T202825
LOCATION:
SUMMARY:Sunday Worship
URL;VALUE=URI:https://www.northsidehighlands.com/events/sunday-worship/2026
 -11-01
END:VEVENT
END:VCALENDAR
