BEGIN:VCALENDAR
VERSION:2.0
PRODID:icalendar-ruby
CALSCALE:GREGORIAN
METHOD:PUBLISH
BEGIN:VEVENT
DTSTAMP:20260422T153841Z
UID:11-1478181@northsidehighlands.com
DTSTART:20261004T230000Z
DTEND:20261006T003000Z
CLASS:PUBLIC
CREATED:20260422T103120
DESCRIPTION:
LAST-MODIFIED:20260422T103120
LOCATION:Yates Home
SUMMARY:Bible Study
URL;VALUE=URI:https://www.northsidehighlands.com/events/bible-study/2026-10
 -04
ATTACH;FILENAME=Ld3n.jpg;FMTTYPE=image/jpeg:https://dq5pwpg1q8ru0.cloudfron
 t.net/2025/09/26/04/41/55/f1278397-1b20-46eb-9a97-2f4921a44030/Ld3n.jpg
END:VEVENT
END:VCALENDAR
