BEGIN:VCALENDAR
VERSION:2.0
PRODID:icalendar-ruby
CALSCALE:GREGORIAN
METHOD:PUBLISH
BEGIN:VEVENT
DTSTAMP:20260422T141504Z
UID:11-1477738@northsidehighlands.com
DTSTART:20260927T230000Z
DTEND:20260929T003000Z
CLASS:PUBLIC
CREATED:20260422T073605
DESCRIPTION:
LAST-MODIFIED:20260422T073605
LOCATION:Yates Home
SUMMARY:Bible Study
URL;VALUE=URI:https://www.northsidehighlands.com/events/bible-study/2026-09
 -27
ATTACH;FILENAME=Ld3n.jpg;FMTTYPE=image/jpeg:https://dq5pwpg1q8ru0.cloudfron
 t.net/2025/09/26/04/41/55/f1278397-1b20-46eb-9a97-2f4921a44030/Ld3n.jpg
END:VEVENT
END:VCALENDAR
