BEGIN:VCALENDAR
VERSION:2.0
PRODID:icalendar-ruby
CALSCALE:GREGORIAN
METHOD:PUBLISH
BEGIN:VEVENT
DTSTAMP:20260422T001130Z
UID:11-1476844@northsidehighlands.com
DTSTART:20260719T230000Z
DTEND:20260721T003000Z
CLASS:PUBLIC
CREATED:20260421T174953
DESCRIPTION:
LAST-MODIFIED:20260421T174953
LOCATION:Yates Home
SUMMARY:Bible Study
URL;VALUE=URI:https://www.northsidehighlands.com/events/bible-study/2026-07
 -19
ATTACH;FILENAME=Ld3n.jpg;FMTTYPE=image/jpeg:https://dq5pwpg1q8ru0.cloudfron
 t.net/2025/09/26/04/41/55/f1278397-1b20-46eb-9a97-2f4921a44030/Ld3n.jpg
END:VEVENT
END:VCALENDAR
